BEGIN:VCALENDAR
VERSION:2.0
PRODID:-//Initiative 9. November e.V. - ECPv6.15.20//NONSGML v1.0//EN
CALSCALE:GREGORIAN
METHOD:PUBLISH
X-ORIGINAL-URL:https://initiative-neunter-november.de
X-WR-CALDESC:Veranstaltungen für Initiative 9. November e.V.
REFRESH-INTERVAL;VALUE=DURATION:PT1H
X-Robots-Tag:noindex
X-PUBLISHED-TTL:PT1H
BEGIN:VTIMEZONE
TZID:Europe/Berlin
BEGIN:DAYLIGHT
TZOFFSETFROM:+0100
TZOFFSETTO:+0200
TZNAME:CEST
DTSTART:20240331T010000
END:DAYLIGHT
BEGIN:STANDARD
TZOFFSETFROM:+0200
TZOFFSETTO:+0100
TZNAME:CET
DTSTART:20241027T010000
END:STANDARD
BEGIN:DAYLIGHT
TZOFFSETFROM:+0100
TZOFFSETTO:+0200
TZNAME:CEST
DTSTART:20250330T010000
END:DAYLIGHT
BEGIN:STANDARD
TZOFFSETFROM:+0200
TZOFFSETTO:+0100
TZNAME:CET
DTSTART:20251026T010000
END:STANDARD
BEGIN:DAYLIGHT
TZOFFSETFROM:+0100
TZOFFSETTO:+0200
TZNAME:CEST
DTSTART:20260329T010000
END:DAYLIGHT
BEGIN:STANDARD
TZOFFSETFROM:+0200
TZOFFSETTO:+0100
TZNAME:CET
DTSTART:20261025T010000
END:STANDARD
END:VTIMEZONE
BEGIN:VEVENT
DTSTART;TZID=Europe/Berlin:20250914T110000
DTEND;TZID=Europe/Berlin:20250914T140000
DTSTAMP:20260420T220623
CREATED:20250815T115713Z
LAST-MODIFIED:20250827T090243Z
UID:3697-1757847600-1757858400@initiative-neunter-november.de
SUMMARY:Tag des offenen Denkmals
DESCRIPTION:Wir nehmen teil an Deutschlands größtem Kulturevent. Über 5.000 Denkmaltüren öffnen immer am 2. Sonntag im September deutschlandweit für Sie\, Ihre Freunde und die ganze Familie. Entdecken Sie sonst nicht zugängliche Orte\, lassen Sie sich von historischen Handwerkstechniken begeistern oder blicken Sie Experten bei Restaurierungsmaßnahmen exklusiv über die Schulter – am 14. September beim Tag des offenen Denkmals 2025. \nÜber dieses Denkmal\nDer Hochbunker an der Friedberger Anlage wurde 1942 auf den Grundmauern der von Nationalsozialisten zerstörten Synagoge der Israelitischen Religionsgesellschaft gebaut. Dieser Ort ist ein besonderer: Er vereinigt in sich das Zerstörte – die zerstörte Synagoge – und das Zerstörende – den Bunker. Die Initiative 9. November erinnert an die November-Pogrome und schafft mit Ausstellungen und Veranstaltungen einen Raum zur Auseinandersetzung mit Hass\, Antisemitismus\, Verfolgung und Vernichtung. \nBegleitprogramm\nDer Bunker kann frei besichtigt werden. Zudem bieten wir folgende sechs Ausstellungen an: „Einige waren Nachbarn“ fragt nach individueller Verantwortung im Holocaust. „Verbrannte Orte“ behandelt die Orte in Frankfurt wo 1933 Bücher öffentlich verbrannt wurden. „Synagogen in Deutschland“ macht zerstörte Gotteshäuser durch Virtual Reality wieder erlebbar. „Displaced Persons“ erzählt vom Ankommen jüdischer Überlebender von Föhrenwald in die Waldschmidtstraße in Frankfurt nach 1945. Die Ausstellung „Ostend – Blick in ein Jüdisches Viertel“ zeichnet die ehemalige Vielfalt jüdischen Lebens in diesem Stadtteil nach. „Musik als Form geistigen Widerstandes“ würdigt jüdische Musiker:innen in Frankfurt während der NS-Zeit und ihre Vertreibung und Ermordung.
URL:https://initiative-neunter-november.de/event/tag-des-offenen-denkmals/
LOCATION:Hochbunker\, Friedberger Anlage 5-6\, Frankfurt am Main\, 60314\, Deutschland
ATTACH;FMTTYPE=image/png:https://initiative-neunter-november.de/wp-content/uploads/Tag-des-offenen-Denkmals.png
ORGANIZER;CN="Initiative 9. November e.V.":MAILTO:info@initiative-neunter-november.de
END:VEVENT
BEGIN:VEVENT
DTSTART;TZID=Europe/Berlin:20250914T113000
DTEND;TZID=Europe/Berlin:20250914T120000
DTSTAMP:20260420T220623
CREATED:20250827T115542Z
LAST-MODIFIED:20250828T130351Z
UID:3715-1757849400-1757851200@initiative-neunter-november.de
SUMMARY:Public tour of the World War II bunker and its exhibitions on Jewish life
DESCRIPTION:Jodean Ator offers an English-language tour of the World War II bunker and our current exhibitions with Jewish Ostend and Virtual Reality Reconstructed Synagogues. \nThis guided tour is part of Germany’s largest cultural event. Over 5\,000 historic buildings open their doors to you\, your friends\, and the whole family on the second Sunday in September throughout Germany. Discover places that are not normally accessible – on September 14 during Open Monument Day 2025. \nAbout this monument\nThe high-rise bunker at Friedberger Anlage was built in 1942 on the foundations of the synagogue of the Israelite Religious Society\, which had been destroyed by the Nazis. The November 9 Initiative commemorates the November pogroms and\, through exhibitions and events\, creates a space for confronting hatred\, anti-Semitism\, persecution\, and extermination. \nAccompanying program\nThe bunker is open to the public. We also offer the following six exhibitions: “Some Were Neighbors” examines individual responsibility in the Holocaust. “Burned Places” deals with the places in Frankfurt where books were publicly burned in 1933. “Synagogues in Germany” uses virtual reality to bring destroyed places of worship back to life. “Displaced Persons” tells the story of Jewish survivors arriving from Föhrenwald to Waldschmidtstraße in Frankfurt after 1945. The exhibition “Ostend – A Look at a Jewish Neighborhood” traces the former diversity of Jewish life in this district. “Music as a Form of Intellectual Resistance” pays tribute to Jewish musicians in Frankfurt during the Nazi era and their expulsion and murder.
URL:https://initiative-neunter-november.de/event/public-tour-of-the-world-war-ii-bunker-and-its-exhibitions-on-jewish-life-2/
LOCATION:Hochbunker\, Friedberger Anlage 5-6\, Frankfurt am Main\, 60314\, Deutschland
CATEGORIES:Führung Ostend Ausstellung,Führung Synagogen Ausstellung,Führungen
ORGANIZER;CN="Initiative 9. November e.V.":MAILTO:info@initiative-neunter-november.de
END:VEVENT
BEGIN:VEVENT
DTSTART;TZID=Europe/Berlin:20250914T123000
DTEND;TZID=Europe/Berlin:20250914T130000
DTSTAMP:20260420T220623
CREATED:20250827T120507Z
LAST-MODIFIED:20250828T130318Z
UID:3718-1757853000-1757854800@initiative-neunter-november.de
SUMMARY:Public tour of the World War II bunker and its exhibitions on Jewish life
DESCRIPTION:Jodean Ator offers an English-language tour of the World War II bunker and our current exhibitions with Jewish Ostend and Virtual Reality Reconstructed Synagogues. \nThis guided tour is part of Germany’s largest cultural event. Over 5\,000 historic buildings open their doors to you\, your friends\, and the whole family on the second Sunday in September throughout Germany. Discover places that are not normally accessible – on September 14 during Open Monument Day 2025. \nAbout this monument\nThe high-rise bunker at Friedberger Anlage was built in 1942 on the foundations of the synagogue of the Israelite Religious Society\, which had been destroyed by the Nazis. The November 9 Initiative commemorates the November pogroms and\, through exhibitions and events\, creates a space for confronting hatred\, anti-Semitism\, persecution\, and extermination. \nAccompanying program\nThe bunker is open to the public. We also offer the following six exhibitions: “Some Were Neighbors” examines individual responsibility in the Holocaust. “Burned Places” deals with the places in Frankfurt where books were publicly burned in 1933. “Synagogues in Germany” uses virtual reality to bring destroyed places of worship back to life. “Displaced Persons” tells the story of Jewish survivors arriving from Föhrenwald to Waldschmidtstraße in Frankfurt after 1945. The exhibition “Ostend – A Look at a Jewish Neighborhood” traces the former diversity of Jewish life in this district. “Music as a Form of Intellectual Resistance” pays tribute to Jewish musicians in Frankfurt during the Nazi era and their expulsion and murder.
URL:https://initiative-neunter-november.de/event/public-tour-of-the-world-war-ii-bunker-and-its-exhibitions-on-jewish-life-3/
LOCATION:Hochbunker\, Friedberger Anlage 5-6\, Frankfurt am Main\, 60314\, Deutschland
ATTACH;FMTTYPE=image/png:https://initiative-neunter-november.de/wp-content/uploads/Tag-des-offenen-Denkmals-Facebook-1230.png
ORGANIZER;CN="Initiative 9. November e.V.":MAILTO:info@initiative-neunter-november.de
END:VEVENT
BEGIN:VEVENT
DTSTART;TZID=Europe/Berlin:20250914T133000
DTEND;TZID=Europe/Berlin:20250914T140000
DTSTAMP:20260420T220623
CREATED:20250827T093003Z
LAST-MODIFIED:20250828T130238Z
UID:3711-1757856600-1757858400@initiative-neunter-november.de
SUMMARY:Public tour of the World War II bunker and its exhibitions on Jewish life
DESCRIPTION:Jodean Ator offers an English-language tour of the World War II bunker and our current exhibitions with Jewish Ostend and Virtual Reality Reconstructed Synagogues. \nThis guided tour is part of Germany’s largest cultural event. Over 5\,000 historic buildings open their doors to you\, your friends\, and the whole family on the second Sunday in September throughout Germany. Discover places that are not normally accessible – on September 14 during Open Monument Day 2025. \nAbout this monument\nThe high-rise bunker at Friedberger Anlage was built in 1942 on the foundations of the synagogue of the Israelite Religious Society\, which had been destroyed by the Nazis. The November 9 Initiative commemorates the November pogroms and\, through exhibitions and events\, creates a space for confronting hatred\, anti-Semitism\, persecution\, and extermination. \nAccompanying program\nThe bunker is open to the public. We also offer the following six exhibitions: “Some Were Neighbors” examines individual responsibility in the Holocaust. “Burned Places” deals with the places in Frankfurt where books were publicly burned in 1933. “Synagogues in Germany” uses virtual reality to bring destroyed places of worship back to life. “Displaced Persons” tells the story of Jewish survivors arriving from Föhrenwald to Waldschmidtstraße in Frankfurt after 1945. The exhibition “Ostend – A Look at a Jewish Neighborhood” traces the former diversity of Jewish life in this district. “Music as a Form of Intellectual Resistance” pays tribute to Jewish musicians in Frankfurt during the Nazi era and their expulsion and murder.
URL:https://initiative-neunter-november.de/event/public-tour-of-the-world-war-ii-bunker-and-its-exhibitions-on-jewish-life/
LOCATION:Hochbunker\, Friedberger Anlage 5-6\, Frankfurt am Main\, 60314\, Deutschland
ATTACH;FMTTYPE=image/png:https://initiative-neunter-november.de/wp-content/uploads/Tag-des-offenen-Denkmals-Facebook-1330.png
ORGANIZER;CN="Initiative 9. November e.V.":MAILTO:info@initiative-neunter-november.de
END:VEVENT
BEGIN:VEVENT
DTSTART;TZID=Europe/Berlin:20250921T113000
DTEND;TZID=Europe/Berlin:20250921T113000
DTSTAMP:20260420T220623
CREATED:20250702T134930Z
LAST-MODIFIED:20250702T134930Z
UID:3669-1758454200-1758454200@initiative-neunter-november.de
SUMMARY:Führung: Ostend – Blick in ein jüdisches Viertel
DESCRIPTION:Das Frankfurter Ostend hatte im Jahre 1895 mit etwa 45 Prozent den höchsten Anteil an jüdischer Bevölkerung in der Stadt\, viele davon osteuropäische Zuwanderer. Die größte Synagoge Frankfurts wurde im Jahre 1907 an der Friedberger Anlage festlich eingeweiht. Es gab soziale und religiöse Einrichtungen wie Thora-Schulen\, Suppenküchen\, Krankenhäuser und Kindergärten. In der NS-Zeit wurde der Stadtteil ein Zufluchtsort für jüdische Menschen aus dem Umland Frankfurts. Die Großmarkthalle war 1941/1942 Ausgangspunkt der Massendeportationen. Nach dem Krieg entwickelten sich im Ostend langsam neue Anfänge jüdischen Lebens. \nDie Ausstellung „Ostend. Blick in ein jüdisches Viertel“\, untergebracht in einem Bunker aus dem Zweiten Weltkrieg\, beleuchtet diese Geschichte. Die Führung durch die Ausstellung dauert 60 Minuten. \nAnmeldung unter besuch.jmf@stadt-frankfurt.de
URL:https://initiative-neunter-november.de/event/fuehrung-ostend-blick-in-ein-juedisches-viertel-20/
LOCATION:Hochbunker\, Friedberger Anlage 5-6\, Frankfurt am Main\, 60314\, Deutschland
CATEGORIES:Führung Ostend Ausstellung,Führungen
ATTACH;FMTTYPE=image/jpeg:https://initiative-neunter-november.de/wp-content/uploads/galerie1-01.jpg
ORGANIZER;CN="J%C3%BCdisches Museum Frankfurt":MAILTO:besuch.jmf@stadt-frankfurt.de
END:VEVENT
BEGIN:VEVENT
DTSTART;TZID=Europe/Berlin:20250924T193000
DTEND;TZID=Europe/Berlin:20250924T193000
DTSTAMP:20260420T220623
CREATED:20250702T135909Z
LAST-MODIFIED:20250828T130111Z
UID:3675-1758742200-1758742200@initiative-neunter-november.de
SUMMARY:Fast vergessen: Die jüdische Gemeinde Bockenheim und ihre Synagoge
DESCRIPTION:Vortrag von Christine Hartwig-Thürmer (Studienkreis Widerstand 1933-1945)\, Norbert Saßmannshausen und Wilhelm Breder (Freunde Bockenheims e.V.) \nRabbiner Dr. Jakob Horovitz\nIn Bockenheim gab es ab 1822 ein gleichberechtigtes Zusammenleben jüdischer und christlicher Deutscher mit völliger Gewerbefreiheit\, einem Stadtrat sowie einem Bürgerausschuss. Ab 1933 wurden die Mitglieder der jüdischen Gemeinde ins Exil gedrängt oder ermordet. Während der Pogromnacht wurde die Synagoge in Brand gesteckt. Dr. Jakob Horovitz\, der letzte Rabbiner\, wurde von der Gestapo zu Tode gefoltert. Heute erinnert hier nichts mehr an die jüdische Gemeinde. Lediglich für die Synagoge existiert eine Gedenkplatte. \nPlan der Grundstücke mit alter und neuer Synagoge\nDer Vortrag ist kostenlos\, wir freuen uns über eine Spende. Bitte warme Kleidung mitbringen\, der Bunker ist recht kühl.
URL:https://initiative-neunter-november.de/event/vortrag-juedische-gemeinde-und-synagoge-in-bockenheim/
LOCATION:Hochbunker\, Friedberger Anlage 5-6\, Frankfurt am Main\, 60314\, Deutschland
CATEGORIES:Vortrag
ATTACH;FMTTYPE=image/jpeg:https://initiative-neunter-november.de/wp-content/uploads/Synagoge-Bockenheim-Desktop-Hintergrund.jpg
ORGANIZER;CN="Initiative 9. November e.V.":MAILTO:info@initiative-neunter-november.de
END:VEVENT
END:VCALENDAR